BEGIN:VCALENDAR
VERSION:2.0
PRODID:-//The Marta Scott Dance Company - ECPv6.15.20//NONSGML v1.0//EN
CALSCALE:GREGORIAN
METHOD:PUBLISH
X-ORIGINAL-URL:https://msdance.org.uk
X-WR-CALDESC:Events for The Marta Scott Dance Company
REFRESH-INTERVAL;VALUE=DURATION:PT1H
X-Robots-Tag:noindex
X-PUBLISHED-TTL:PT1H
BEGIN:VTIMEZONE
TZID:Europe/London
BEGIN:DAYLIGHT
TZOFFSETFROM:+0000
TZOFFSETTO:+0100
TZNAME:BST
DTSTART:20250330T010000
END:DAYLIGHT
BEGIN:STANDARD
TZOFFSETFROM:+0100
TZOFFSETTO:+0000
TZNAME:GMT
DTSTART:20251026T010000
END:STANDARD
BEGIN:DAYLIGHT
TZOFFSETFROM:+0000
TZOFFSETTO:+0100
TZNAME:BST
DTSTART:20260329T010000
END:DAYLIGHT
BEGIN:STANDARD
TZOFFSETFROM:+0100
TZOFFSETTO:+0000
TZNAME:GMT
DTSTART:20261025T010000
END:STANDARD
BEGIN:DAYLIGHT
TZOFFSETFROM:+0000
TZOFFSETTO:+0100
TZNAME:BST
DTSTART:20270328T010000
END:DAYLIGHT
BEGIN:STANDARD
TZOFFSETFROM:+0100
TZOFFSETTO:+0000
TZNAME:GMT
DTSTART:20271031T010000
END:STANDARD
END:VTIMEZONE
BEGIN:VEVENT
DTSTART;TZID=Europe/London:20260830T140000
DTEND;TZID=Europe/London:20260830T150000
DTSTAMP:20260422T101413
CREATED:20260418T205002Z
LAST-MODIFIED:20260418T210214Z
UID:2838-1788098400-1788102000@msdance.org.uk
SUMMARY:Patcham Duck Fayre Sunday Aug 30th 2026!
DESCRIPTION:
URL:https://msdance.org.uk/event/duck-fayre/
LOCATION:Patcham Junior School\, 51 Ladies Mile Road\, Patcham\, BN1 8TA
END:VEVENT
END:VCALENDAR