BEGIN:VCALENDAR
VERSION:2.0
PRODID:-//The Marta Scott Dance Company - ECPv6.15.20//NONSGML v1.0//EN
CALSCALE:GREGORIAN
METHOD:PUBLISH
X-ORIGINAL-URL:https://msdance.org.uk
X-WR-CALDESC:Events for The Marta Scott Dance Company
REFRESH-INTERVAL;VALUE=DURATION:PT1H
X-Robots-Tag:noindex
X-PUBLISHED-TTL:PT1H
BEGIN:VTIMEZONE
TZID:Europe/London
BEGIN:DAYLIGHT
TZOFFSETFROM:+0000
TZOFFSETTO:+0100
TZNAME:BST
DTSTART:20240331T010000
END:DAYLIGHT
BEGIN:STANDARD
TZOFFSETFROM:+0100
TZOFFSETTO:+0000
TZNAME:GMT
DTSTART:20241027T010000
END:STANDARD
BEGIN:DAYLIGHT
TZOFFSETFROM:+0000
TZOFFSETTO:+0100
TZNAME:BST
DTSTART:20250330T010000
END:DAYLIGHT
BEGIN:STANDARD
TZOFFSETFROM:+0100
TZOFFSETTO:+0000
TZNAME:GMT
DTSTART:20251026T010000
END:STANDARD
BEGIN:DAYLIGHT
TZOFFSETFROM:+0000
TZOFFSETTO:+0100
TZNAME:BST
DTSTART:20260329T010000
END:DAYLIGHT
BEGIN:STANDARD
TZOFFSETFROM:+0100
TZOFFSETTO:+0000
TZNAME:GMT
DTSTART:20261025T010000
END:STANDARD
END:VTIMEZONE
BEGIN:VEVENT
DTSTART;VALUE=DATE:20250802
DTEND;VALUE=DATE:20250803
DTSTAMP:20260424T093708
CREATED:20241217T160354Z
LAST-MODIFIED:20260228T151712Z
UID:2789-1754092800-1754179199@msdance.org.uk
SUMMARY:Brighton Pride 2025
DESCRIPTION:If you still want to take part this year please make your deposit of £30 as a dancer or of £20 as a Highlight to guarantee your space!!!  \nI can probably have about 35 to 40 entertainers… \nA total of 50ish participants MAX \, which I need to include the stewards & photographers!!!  \nOn July 1st 2025 \, I will then ask for the remaining fee of another £30 or £20.  \nVery soon\, I will discuss with dear Sue Bourne about my ideas for our costumes… \nThey will \, for sure \, look very colourful 🤗 \n🏳️‍🌈🤩
URL:https://msdance.org.uk/event/brighton-pride-2025/
ATTACH;FMTTYPE=image/jpeg:https://msdance.org.uk/wp-content/uploads/2026/02/Pride-2019-0090-scaled.jpg
END:VEVENT
BEGIN:VEVENT
DTSTART;TZID=Europe/London:20250822T190000
DTEND;TZID=Europe/London:20250822T203000
DTSTAMP:20260424T093708
CREATED:20250722T180014Z
LAST-MODIFIED:20250722T180014Z
UID:2855-1755889200-1755894600@msdance.org.uk
SUMMARY:Marina Studio's Summer Showcase
DESCRIPTION:
URL:https://msdance.org.uk/event/marina-studios-summer-showcase/
LOCATION:Marina Studios\, 11 Mermaid Walk\, Brighton\, BN2 5WA
END:VEVENT
END:VCALENDAR