BEGIN:VCALENDAR
VERSION:2.0
PRODID:-//The Marta Scott Dance Company - ECPv6.15.20//NONSGML v1.0//EN
CALSCALE:GREGORIAN
METHOD:PUBLISH
X-ORIGINAL-URL:https://msdance.org.uk
X-WR-CALDESC:Events for The Marta Scott Dance Company
REFRESH-INTERVAL;VALUE=DURATION:PT1H
X-Robots-Tag:noindex
X-PUBLISHED-TTL:PT1H
BEGIN:VTIMEZONE
TZID:Europe/London
BEGIN:DAYLIGHT
TZOFFSETFROM:+0000
TZOFFSETTO:+0100
TZNAME:BST
DTSTART:20240331T010000
END:DAYLIGHT
BEGIN:STANDARD
TZOFFSETFROM:+0100
TZOFFSETTO:+0000
TZNAME:GMT
DTSTART:20241027T010000
END:STANDARD
BEGIN:DAYLIGHT
TZOFFSETFROM:+0000
TZOFFSETTO:+0100
TZNAME:BST
DTSTART:20250330T010000
END:DAYLIGHT
BEGIN:STANDARD
TZOFFSETFROM:+0100
TZOFFSETTO:+0000
TZNAME:GMT
DTSTART:20251026T010000
END:STANDARD
BEGIN:DAYLIGHT
TZOFFSETFROM:+0000
TZOFFSETTO:+0100
TZNAME:BST
DTSTART:20260329T010000
END:DAYLIGHT
BEGIN:STANDARD
TZOFFSETFROM:+0100
TZOFFSETTO:+0000
TZNAME:GMT
DTSTART:20261025T010000
END:STANDARD
END:VTIMEZONE
BEGIN:VEVENT
DTSTART;TZID=Europe/London:20250905T170000
DTEND;TZID=Europe/London:20250905T173000
DTSTAMP:20260422T095601
CREATED:20250831T121857Z
LAST-MODIFIED:20250831T122412Z
UID:2872-1757091600-1757093400@msdance.org.uk
SUMMARY:Women's Rugby World Cup
DESCRIPTION:Performance in the fan zone!
URL:https://msdance.org.uk/event/womens-rugby-world-cup/
LOCATION:Victoria Gardens\, Marlborough Place\, Brighton\, BN1 1WN
ATTACH;FMTTYPE=image/jpeg:https://msdance.org.uk/wp-content/uploads/2025/08/Messenger_creation_1CA6BCC3-6422-4CC9-B5AD-5A4D5F58B86E.jpeg
END:VEVENT
BEGIN:VEVENT
DTSTART;TZID=Europe/London:20250921T160000
DTEND;TZID=Europe/London:20250921T170000
DTSTAMP:20260422T095601
CREATED:20250827T152655Z
LAST-MODIFIED:20250827T152655Z
UID:2858-1758470400-1758474000@msdance.org.uk
SUMMARY:Family Fiesta
DESCRIPTION:
URL:https://msdance.org.uk/event/family-fiesta/
LOCATION:Shoreham Centre\, 2 Pond Road\, Shoreham\, BN43 5WU
END:VEVENT
END:VCALENDAR